BEGIN:VCALENDAR
VERSION:2.0
PRODID:-//Visit Shawnee - ECPv6.14.0//NONSGML v1.0//EN
CALSCALE:GREGORIAN
METHOD:PUBLISH
X-ORIGINAL-URL:https://visitshawneeks.com
X-WR-CALDESC:Events for Visit Shawnee
REFRESH-INTERVAL;VALUE=DURATION:PT1H
X-Robots-Tag:noindex
X-PUBLISHED-TTL:PT1H
BEGIN:VTIMEZONE
TZID:America/Chicago
BEGIN:DAYLIGHT
TZOFFSETFROM:-0600
TZOFFSETTO:-0500
TZNAME:CDT
DTSTART:20250309T080000
END:DAYLIGHT
BEGIN:STANDARD
TZOFFSETFROM:-0500
TZOFFSETTO:-0600
TZNAME:CST
DTSTART:20251102T070000
END:STANDARD
END:VTIMEZONE
BEGIN:VEVENT
DTSTART;TZID=America/Chicago:20250802T183000
DTEND;TZID=America/Chicago:20250802T203000
DTSTAMP:20260425T081756
CREATED:20250702T160914Z
LAST-MODIFIED:20250702T161148Z
UID:10000008-1754159400-1754166600@visitshawneeks.com
SUMMARY:Family Swim Party
DESCRIPTION:Celebrate summer with us at Splash Cove! This family friendly event is intended for the Adaptive Recreation community. Some features may have limited availability to ensure that we meet sensory needs. Pre-registration is encouraged.
URL:https://visitshawneeks.com/event/family-swim-party/
LOCATION:Splash Cove\, 5800 King Ave\, Shawnee\, KS\, 66203\, United States
END:VEVENT
END:VCALENDAR