BEGIN:VCALENDAR
VERSION:2.0
PRODID:-//Visit Shawnee - ECPv6.14.0//NONSGML v1.0//EN
CALSCALE:GREGORIAN
METHOD:PUBLISH
X-ORIGINAL-URL:https://visitshawneeks.com
X-WR-CALDESC:Events for Visit Shawnee
REFRESH-INTERVAL;VALUE=DURATION:PT1H
X-Robots-Tag:noindex
X-PUBLISHED-TTL:PT1H
BEGIN:VTIMEZONE
TZID:America/Chicago
BEGIN:DAYLIGHT
TZOFFSETFROM:-0600
TZOFFSETTO:-0500
TZNAME:CDT
DTSTART:20250309T080000
END:DAYLIGHT
BEGIN:STANDARD
TZOFFSETFROM:-0500
TZOFFSETTO:-0600
TZNAME:CST
DTSTART:20251102T070000
END:STANDARD
END:VTIMEZONE
BEGIN:VEVENT
DTSTART;TZID=America/Chicago:20251009T173000
DTEND;TZID=America/Chicago:20251009T193000
DTSTAMP:20260425T062202
CREATED:20250925T161340Z
LAST-MODIFIED:20250925T161550Z
UID:10000013-1760031000-1760038200@visitshawneeks.com
SUMMARY:Yappy Hour
DESCRIPTION:Dog owners and dog lovers join us for a fun happy hour as Shawnee Town turns into an Off–Leash Dog Park for the night! \nPups will get to run and play in our fully-fenced 1920s downtown square while humans can enjoy the live music and atmosphere Thursday\, October 9 from 5:30 pm to 7:30 pm. Our partners Transport Brewery and Scotty C’s will also have drinks and gourmet hot dogs for purchase! Dog-friendly water fountain and splash pools (weather permitting) included. \nPre-registration is $5.00 per human\, while At-the-Gate Admission is $7.00. Dogs are free. Register online or over the phone at (913) 248–2360! .
URL:https://visitshawneeks.com/event/yappy-hour-2/
LOCATION:Shawnee Town\, 1929\, 11600 Johnson Drive\, Shawnee\, KS\, 66217\, United States
ATTACH;FMTTYPE=image/jpeg:https://visitshawneeks.com/wp-content/uploads/2025/07/yappy-hour.jpg
END:VEVENT
BEGIN:VEVENT
DTSTART;VALUE=DATE:20250926
DTEND;VALUE=DATE:20250928
DTSTAMP:20260425T062202
CREATED:20250702T173154Z
LAST-MODIFIED:20250925T161112Z
UID:10000019-1758844800-1759017599@visitshawneeks.com
SUMMARY:ANNUAL SHAWNEE GREAT GRILLERS BBQ CONTEST
DESCRIPTION:Join us on the grounds of Shawnee Town 1929 for the Great Grillers BBQ Contest. Take in the sights and sounds of the annual BBQ competition while enjoying music\, beer tent\, food trucks and a FREE bounce house for the kiddos! Admission is free!
URL:https://visitshawneeks.com/event/annual-shawnee-great-grillers-bbq-contest/
LOCATION:Shawnee Town\, 1929\, 11600 Johnson Drive\, Shawnee\, KS\, 66217\, United States
ATTACH;FMTTYPE=image/jpeg:https://visitshawneeks.com/wp-content/uploads/2025/07/great-grillers.jpg
END:VEVENT
BEGIN:VEVENT
DTSTART;TZID=America/Chicago:20250920T090000
DTEND;TZID=America/Chicago:20250920T160000
DTSTAMP:20260425T062202
CREATED:20250702T171302Z
LAST-MODIFIED:20250702T171302Z
UID:10000017-1758358800-1758384000@visitshawneeks.com
SUMMARY:ANNUAL FRIENDS OF SHAWNEE TOWN CRAFT FAIR
DESCRIPTION:The Annual Friends of Shawnee Town Craft Fair & Fall Festival welcomes dozens of vendors showcasing their hand-made and re-purposed items. There will be FREE kids’ activities\, food trucks and live music. Admission is just $1 per person\, collected at the gates. All money raised benefits the Museum and its educational programs.
URL:https://visitshawneeks.com/event/annual-friends-of-shawnee-town-craft-fair/
LOCATION:Shawnee Town\, 1929\, 11600 Johnson Drive\, Shawnee\, KS\, 66217\, United States
ATTACH;FMTTYPE=image/jpeg:https://visitshawneeks.com/wp-content/uploads/2025/07/craft-fair.jpg
END:VEVENT
BEGIN:VEVENT
DTSTART;TZID=America/Chicago:20250914T130000
DTEND;TZID=America/Chicago:20250914T160000
DTSTAMP:20260425T062202
CREATED:20250702T170720Z
LAST-MODIFIED:20250702T170720Z
UID:10000016-1757854800-1757865600@visitshawneeks.com
SUMMARY:Wheels & Dreams Car\, Truck\, And Bike Show
DESCRIPTION:Gear heads and car aficionados are invited to the annual Wheels and Dreams Car\, Truck\, and Bike Show. With live music\, vendors\, food trucks\, and\, of course\, hundreds of classic and souped-up vehicles\, it’s the perfect weekend outing for the family. Have a cool ride you want to show off? You can do that too! 
URL:https://visitshawneeks.com/event/wheels-dreams-car-truck-and-bike-show/
LOCATION:Shawnee Town\, 1929\, 11600 Johnson Drive\, Shawnee\, KS\, 66217\, United States
ATTACH;FMTTYPE=image/jpeg:https://visitshawneeks.com/wp-content/uploads/2025/07/Wheels-Dreams-Car-Truck-And-Bike-Show.jpg
END:VEVENT
BEGIN:VEVENT
DTSTART;TZID=America/Chicago:20250827T190000
DTEND;TZID=America/Chicago:20250827T203000
DTSTAMP:20260425T062202
CREATED:20250702T161555Z
LAST-MODIFIED:20250702T161555Z
UID:10000009-1756321200-1756326600@visitshawneeks.com
SUMMARY:Jammin' on the Green
DESCRIPTION:Welcome back AnnaLee and the Lucky So & Sos to the Bandstand on Wednesday\, August 27 at 7:00 pm! A popular Kansas City-based swing band\, they celebrate the very best of Kansas City sound from the 1930s\, 40s\, and 50s\, the heyday of KC-style jazz\, swing\, and jump blues. Their repertoire includes Count Basie\, Ella Fitzgerald\, Julia Lee\, Louie Jordan\, and so many more\, along with their own original tunes.
URL:https://visitshawneeks.com/event/jammin-on-the-green-2/
LOCATION:Shawnee Town\, 1929\, 11600 Johnson Drive\, Shawnee\, KS\, 66217\, United States
ATTACH;FMTTYPE=image/jpeg:https://visitshawneeks.com/wp-content/uploads/2025/07/jammin-on-the-green-1.jpg
END:VEVENT
BEGIN:VEVENT
DTSTART;TZID=America/Chicago:20250723T190000
DTEND;TZID=America/Chicago:20250723T203000
DTSTAMP:20260425T062202
CREATED:20250702T152547Z
LAST-MODIFIED:20250702T154129Z
UID:10000006-1753297200-1753302600@visitshawneeks.com
SUMMARY:Jammin' on the Green
DESCRIPTION:Help us welcome Betse & Clarke String Band to the Jammin’ stage! This dynamic fiddle and banjo duo—joined by a few talented friends—will treat audiences to a toe-tapping performance rooted in Ozark old-time music\, blending traditional tunes with creative new compositions. Admission is free! Enjoy bottled water and snacks\, bring your own chair\, and feel free to bring along your leashed\, well-behaved pup. Limited bench and picnic table seating available.
URL:https://visitshawneeks.com/event/jammin-on-the-green/
LOCATION:Shawnee Town\, 1929\, 11600 Johnson Drive\, Shawnee\, KS\, 66217\, United States
ATTACH;FMTTYPE=image/jpeg:https://visitshawneeks.com/wp-content/uploads/2025/07/jammin-on-the-green.jpg
END:VEVENT
BEGIN:VEVENT
DTSTART;TZID=America/Chicago:20250716T170000
DTEND;TZID=America/Chicago:20250716T183000
DTSTAMP:20260425T062202
CREATED:20250702T151033Z
LAST-MODIFIED:20250702T151515Z
UID:10000005-1752685200-1752690600@visitshawneeks.com
SUMMARY:Touch-a-Truck
DESCRIPTION:Fire trucks and tractors and bobcats\, oh my! Bring your little ones out to Shawnee Town 1929/Herman Laird Park on Wednesday\, July 16th. Watch their eyes light up as they sit in the driver’s seat of these big trucks and old rigs!
URL:https://visitshawneeks.com/event/touch-a-truck/
LOCATION:Shawnee Town\, 1929\, 11600 Johnson Drive\, Shawnee\, KS\, 66217\, United States
ATTACH;FMTTYPE=image/jpeg:https://visitshawneeks.com/wp-content/uploads/2025/07/touch-a-truck.jpg
END:VEVENT
END:VCALENDAR