BEGIN:VCALENDAR
VERSION:2.0
PRODID:-//Visit Shawnee - ECPv6.14.0//NONSGML v1.0//EN
CALSCALE:GREGORIAN
METHOD:PUBLISH
X-WR-CALNAME:Visit Shawnee
X-ORIGINAL-URL:https://visitshawneeks.com/es
X-WR-CALDESC:Eventos para Visit Shawnee
REFRESH-INTERVAL;VALUE=DURATION:PT1H
X-Robots-Tag:noindex
X-PUBLISHED-TTL:PT1H
BEGIN:VTIMEZONE
TZID:America/Chicago
BEGIN:DAYLIGHT
TZOFFSETFROM:-0600
TZOFFSETTO:-0500
TZNAME:CDT
DTSTART:20250309T080000
END:DAYLIGHT
BEGIN:STANDARD
TZOFFSETFROM:-0500
TZOFFSETTO:-0600
TZNAME:CST
DTSTART:20251102T070000
END:STANDARD
END:VTIMEZONE
BEGIN:VEVENT
DTSTART;TZID=America/Chicago:20250827T190000
DTEND;TZID=America/Chicago:20250827T203000
DTSTAMP:20260425T053811
CREATED:20250702T161555Z
LAST-MODIFIED:20250702T161555Z
UID:1474-1756321200-1756326600@visitshawneeks.com
SUMMARY:Jammin' on the Green
DESCRIPTION:Welcome back AnnaLee and the Lucky So & Sos to the Bandstand on Wednesday\, August 27 at 7:00 pm! A popular Kansas City-based swing band\, they celebrate the very best of Kansas City sound from the 1930s\, 40s\, and 50s\, the heyday of KC-style jazz\, swing\, and jump blues. Their repertoire includes Count Basie\, Ella Fitzgerald\, Julia Lee\, Louie Jordan\, and so many more\, along with their own original tunes.
URL:https://visitshawneeks.com/es/event/jammin-on-the-green-2/
LOCATION:Shawnee Town\, 1929\, 11600 Johnson Drive\, Shawnee\, KS\, 66217\, United States
ATTACH;FMTTYPE=image/jpeg:https://visitshawneeks.com/wp-content/uploads/2025/07/jammin-on-the-green-1.jpg
END:VEVENT
END:VCALENDAR